BEGIN:VCALENDAR
VERSION:2.0
PRODID:-//Weinfreunde Fricktal - ECPv6.15.20//NONSGML v1.0//EN
CALSCALE:GREGORIAN
METHOD:PUBLISH
X-WR-CALNAME:Weinfreunde Fricktal
X-ORIGINAL-URL:https://www.weinfreunde-fricktal.ch
X-WR-CALDESC:Veranstaltungen für Weinfreunde Fricktal
REFRESH-INTERVAL;VALUE=DURATION:PT1H
X-Robots-Tag:noindex
X-PUBLISHED-TTL:PT1H
BEGIN:VTIMEZONE
TZID:Europe/Berlin
BEGIN:DAYLIGHT
TZOFFSETFROM:+0100
TZOFFSETTO:+0200
TZNAME:CEST
DTSTART:20250330T010000
END:DAYLIGHT
BEGIN:STANDARD
TZOFFSETFROM:+0200
TZOFFSETTO:+0100
TZNAME:CET
DTSTART:20251026T010000
END:STANDARD
BEGIN:DAYLIGHT
TZOFFSETFROM:+0100
TZOFFSETTO:+0200
TZNAME:CEST
DTSTART:20260329T010000
END:DAYLIGHT
BEGIN:STANDARD
TZOFFSETFROM:+0200
TZOFFSETTO:+0100
TZNAME:CET
DTSTART:20261025T010000
END:STANDARD
BEGIN:DAYLIGHT
TZOFFSETFROM:+0100
TZOFFSETTO:+0200
TZNAME:CEST
DTSTART:20270328T010000
END:DAYLIGHT
BEGIN:STANDARD
TZOFFSETFROM:+0200
TZOFFSETTO:+0100
TZNAME:CET
DTSTART:20271031T010000
END:STANDARD
END:VTIMEZONE
BEGIN:VEVENT
DTSTART;TZID=Europe/Berlin:20260508T180000
DTEND;TZID=Europe/Berlin:20260508T230000
DTSTAMP:20260423T122454
CREATED:20260317T171338Z
LAST-MODIFIED:20260330T183159Z
UID:3395-1778263200-1778281200@www.weinfreunde-fricktal.ch
SUMMARY:59. Generalversammlung
DESCRIPTION:Zur 59. Generalversammlung laden wir euch gerne ein. Wir treffen uns in der neu erstellten Trotte der Weinbaugenossenschaft Wil. Nach dem Apéro\, offeriert von der Wiler Trotte und einer Führung durch das neue Gebäude\, beginnt um 19.00 Uhr die offizielle Generalversammlung. Wir freuen uns auf eure Anmeldung und einen interessanten und geselligen Abend.\nVorstand Weinfreunde Fricktal \nAblauf\n18.00 Uhr     Eintreffen und Apéro\n18.30 Uhr     Begrüssung durch Präsident Urs Hofer und durch den Vorstand der Weinbaugenossenschaft Wiler Trotte\nInformation und Führung Guido Oeschger\, Betriebsleiter/Kellermeister\n19.00 Uhr     Beginn der 59. Generalversammlung\nAnschliessend Nachtessen\, Catering Rest. Bären\, Hottwil \nTraktanden\n1. Begrüssung und Präsenz\n2.  Wahl Stimmenzähler/in\n3.  Protokoll der 58. Generalversammlung vom 16. Mai 2025 (Beilage)\n4.  Jahresbericht des Präsidenten\n5.  Jahresrechnung und Revisorenbericht (Beilage)\n6.  Jahresbeitrag 2027\n7.  Mutationen (Austritte und Neumitglieder)\n8.  Vorstand\n9.  Ehrungen\n10. Jahresprogramm 2026/27\n11.  Verschiedenes und Umfrage \nNachtessen\nFrühlingssalat mit Radieschen\nKalbsschulterbraten\, Jus mit Kartoffelstock und Mischgemüse\nVegi-Menü: Gemüseteller mit Randenbällchen und Kartoffelstock\nSchoggibirne «Bären» \nKoordinaten\nMit dem Auto\nIn Wil ausgangs Dorf links dem Wegweiser Richtung Wiler Trotte folgen. Parkplätze vor dem neuen Betriebsgebäude. \nMit ÖV\nHinweg: Ab Frick\, Bahnhof 17.00 Uhr (Postauto Linie B 135) nach Laufenburg. Von Laufenburg Bahnhof ab 17.32 Uhr (Linie B 142) nach Wil\, Mitteldorf. Ankunft in Wil 17.46 Uhr. Von da zu Fuss ein paar Minuten bis zur Wiler Trotte.\nRückweg: Ab Wil 22.10 Uhr (Linie B 142) nach Laufenburg\, Bahnhof. Per Zug (S1) um 22.34 Uhr nach Stein-Säckingen. Von dort um 22.49 Uhr mit S1 nach Frick. \nAnmeldung bis am 4. Mai 2026 \nOnline-Anmeldung direkt über www.weinfreunde-fricktal.ch. Nach der Anmeldung erfolgt direkt eine Bestätigung per Mail. Anmeldungen sind auch direkt über den Kassier Hansueli Herzog\, 079 414 62 54 oder per E-Mail an hansueli.herzog@herzog-treuhand.ch möglich. \nKosten\nCHF 75.00 pro Person\nBitte überweist den Betrag bis spätestens am 4. Mai 2026 auf das Konto IBAN CH60 8080 8005 7811 9330 1\, lautend auf Schweizerische Vereinigung der Weinfreunde\, Sektion Fricktal\, bei der Raiffeisenbank Regio Frick-Mettauertal. Ein QR-Einzahlungsschein liegt bei. Besten Dank. \nEine kostenfreie Stornierung der Teilnahme ist nur bis am 4. Mai möglich. \nAlle Daten als PDF ansehen und herunterladen:\nEinladung GV Weinfreunde 8.5.2026 \nEinzahlungsschein GV 2026 \nJR 2025 Revisorenbericht \nProtokoll GV 2025 Effingen AG \n  \n 
URL:https://www.weinfreunde-fricktal.ch/veranstaltung/59-generalversammlung/
LOCATION:Wiler Trotte\, Oberdorfstrasse 65\, Wil Mettauertal\, AG\, 5276\, Switzerland
CATEGORIES:Vereinsanlässe
END:VEVENT
END:VCALENDAR